BEGIN:VCALENDAR
VERSION:2.0
PRODID:-//Squarespace Inc/Squarespace 6//v6//EN
BEGIN:VEVENT
UID:5cb3c3b00852298c9c629228@squarespace.com
DTSTAMP:20190415T221942Z
DTSTART:20190529T090000Z
DTEND:20190529T110000Z
SUMMARY:Better Sleep 6 wk Course
GEO:-33.78835;151.285015
LOCATION:Manly Yoga\, 200 Pittwater Rd\, Manly\, NSW\, 2095\, Australia
END:VEVENT
END:VCALENDAR
