BEGIN:VCALENDAR
VERSION:2.0
PRODID:-//Squarespace Inc/Squarespace 6//v6//EN
BEGIN:VEVENT
UID:5cb3c54b4785d379fe0b3976@squarespace.com
DTSTAMP:20200101T020407Z
DTSTART:20200216T024500Z
DTEND:20200216T051500Z
SUMMARY:Mindfulness Based Stress Reduction Course - starts 16th February 20
 20
END:VEVENT
END:VCALENDAR
